BEGIN:VCALENDAR
VERSION:2.0
PRODID:-//Psike İstanbul - ECPv6.15.20//NONSGML v1.0//EN
CALSCALE:GREGORIAN
METHOD:PUBLISH
X-ORIGINAL-URL:https://psikeistanbul.org
X-WR-CALDESC:Psike İstanbul için etkinlikler
REFRESH-INTERVAL;VALUE=DURATION:PT1H
X-Robots-Tag:noindex
X-PUBLISHED-TTL:PT1H
BEGIN:VTIMEZONE
TZID:Europe/Istanbul
BEGIN:STANDARD
TZOFFSETFROM:+0300
TZOFFSETTO:+0300
TZNAME:+03
DTSTART:20240101T000000
END:STANDARD
END:VTIMEZONE
BEGIN:VEVENT
DTSTART;TZID=Europe/Istanbul:20250618T200000
DTEND;TZID=Europe/Istanbul:20250618T230000
DTSTAMP:20260422T195048
CREATED:20250305T094353Z
LAST-MODIFIED:20250305T094732Z
UID:100023069-1750276800-1750287600@psikeistanbul.org
SUMMARY:SİNEMA AKŞAMLARI 2025
DESCRIPTION:Psike İstanbul ve Kadıköy Sineması\, “Sinema Akşamları”nın on üçüncü yılında bir araya geliyor. 2025 sezonu “Değişim/Dönüşüm” temasıyla Kadıköy Sinemasında başlıyor. Mart ayından başlayarak Haziran ayına kadar üç Çarşamba akşamı gerçekleştirilecek etkinliklerde\, film gösteriminin ardından Psike İstanbul Psikanaliz Derneği üyesi psikanalistlerin katılımıyla filmler ve karakterler psikanalitik bir bakış açısıyla ele alınacak. Sizleri yönetmenlerin düşlemlerini\, filmlerdeki bilinçdışı izleri ve uyandırdıkları öznel çağrışımları birlikte düşünmeye davet ediyoruz. \n \nBilet satışı için tıklayınız. 
URL:https://psikeistanbul.org/event/sinema-aksamlari-2025-2025-06-18/
LOCATION:Kadıköy Sineması\, Osmanağa\, Bahariye Cd. Kadıköy Pasajı No:25\, Kadıköy\, İstanbul\, Kadıköy\, 34714\, Turkey
CATEGORIES:Sinema Akşamları
END:VEVENT
END:VCALENDAR