BEGIN:VCALENDAR
VERSION:2.0
PRODID:-//Psike İstanbul - ECPv6.15.20//NONSGML v1.0//EN
CALSCALE:GREGORIAN
METHOD:PUBLISH
X-WR-CALNAME:Psike İstanbul
X-ORIGINAL-URL:https://psikeistanbul.org
X-WR-CALDESC:Psike İstanbul için etkinlikler
REFRESH-INTERVAL;VALUE=DURATION:PT1H
X-Robots-Tag:noindex
X-PUBLISHED-TTL:PT1H
BEGIN:VTIMEZONE
TZID:Europe/Istanbul
BEGIN:STANDARD
TZOFFSETFROM:+0300
TZOFFSETTO:+0300
TZNAME:+03
DTSTART:20240101T000000
END:STANDARD
END:VTIMEZONE
BEGIN:VEVENT
DTSTART;TZID=Europe/Istanbul:20250614T130000
DTEND;TZID=Europe/Istanbul:20250614T170000
DTSTAMP:20260422T170711
CREATED:20250510T121332Z
LAST-MODIFIED:20251211T092209Z
UID:100023104-1749906000-1749920400@psikeistanbul.org
SUMMARY:Psikanalistle Buluşma - Mark Solms
DESCRIPTION:Sizleri 14 Haziran 2025 Saat 13.00’te çevrimiçi olarak gerçekleştirilecek etkinliğimizde\, Mark Solms’un paradigmayı sarsan bu sunumunu izlemeye ve beraber düşünmeye davet ediyoruz. \n   \nKayıt formu için tıklayınız.
URL:https://psikeistanbul.org/event/psikanalistle-bulusma-mark-solms/
LOCATION:İstanbul
CATEGORIES:Psikanalistle Buluşma
ATTACH;FMTTYPE=image/png:https://psikeistanbul.org/wp-content/uploads/2025/05/Screenshot-2025-05-10-at-13.15.31.png
END:VEVENT
END:VCALENDAR