BEGIN:VCALENDAR
VERSION:2.0
PRODID:-//Psike İstanbul - ECPv6.15.20//NONSGML v1.0//EN
CALSCALE:GREGORIAN
METHOD:PUBLISH
X-WR-CALNAME:Psike İstanbul
X-ORIGINAL-URL:https://psikeistanbul.org
X-WR-CALDESC:Psike İstanbul için etkinlikler
REFRESH-INTERVAL;VALUE=DURATION:PT1H
X-Robots-Tag:noindex
X-PUBLISHED-TTL:PT1H
BEGIN:VTIMEZONE
TZID:Europe/Istanbul
BEGIN:STANDARD
TZOFFSETFROM:+0300
TZOFFSETTO:+0300
TZNAME:+03
DTSTART:20220101T000000
END:STANDARD
END:VTIMEZONE
BEGIN:VEVENT
DTSTART;TZID=Europe/Istanbul:20231002T170000
DTEND;TZID=Europe/Istanbul:20231002T220000
DTSTAMP:20260422T213256
CREATED:20230712T113327Z
LAST-MODIFIED:20231020T145245Z
UID:100018400-1696266000-1696284000@psikeistanbul.org
SUMMARY:Psikanalize Giriş Seminerleri (2023-2024)
DESCRIPTION:Psikanalize Giriş Seminerleri (2023-2024) dökümanını PDF olarak indirmek için lütfen tıklayın. \nULUSLARARASI PSİKANALİZ BİRLİĞİ (IPA) BİLEŞEN TOPLULUĞU \nPSİKANALİZE GİRİŞ SEMİNERLERİ \n2023-2024 \nDerneğimiz tarafından bu sene on beşincisi düzenlenen  Psikanalize Giriş Seminerleri iki ayrı seviyede yapılmaktadır: “Psikanalize Başlarken” ve “İkinci Adım: Vaka Çalışmaları”. \nSigmund Freud’un psikanaliz kuramına giriş ve sonraki bazı kuramcıların katkılarıyla tanışma niteliğindeki Psikanalize Başlarken seminerleri Pazartesi ve Çarşamba Grupları olmak üzere iki grupta gerçekleştirilmektedir. Gruplarda sunulan program aynıdır. Katılımcılar yalnızca birine kaydolabilir ve hangi gruba kaydolduysa sadece o grubun gününde olan seminerlere gelebilir. \nGruplar arasında geçiş yoktur. \nSeminerlerin yalnızca “Psikanalize Başlarken” modülü çevrimiçi olarak gerçekleştirilmektedir. “İkinci Adım: Vaka Çalışmaları” Psike İstanbul Merkezinde yapılacaktır. \n∼ PSİKANALİZE BAŞLARKEN ∼ \nSeminerlerin bu bölümü temel psikanaliz metinlerini çalışmayı arzu eden veya kişisel/kurumsal pratiğinde psikanalitik bakış açısının pratikteki işleyişine ilgi duyan herkesin katılımına açıktır. Psikanaliz kuramı\, savunma mekanizmaları\, kişilik örgütlenmeleri ve psikopatoloji C. Brenner’in Psikanalizin Temel İlkeleri\, N. McWilliams’ın Psikanalitik Tanı\, A. Freud’un Ben ve Savunma Mekanizmaları\, R. Perron’un Psikanaliz Nedir? ve V. D. Volkan’ın Psychoanalytic Technique Expanded kitapları çerçevesinde anlatılacaktır. \nPsikanalize Başlarken seminerleri Ekim 2023 – Haziran 2024 tarihleri arasında gerçekleştirilecektir. Pazartesi Grubu için 15 günde bir Pazartesi günleri saat 20.00-22.00 arasında\, Çarşamba Grubu için 15 günde bir Çarşamba günleri saat 20.00-22.00 arası yapılacaktır. Kapanış seminerleri saat 20.00-21.00 arası yapılacaktır. \n∼ İKİNCİ ADIM: VAKA ÇALIŞMALARI ∼ \nBu seminer programına yalnızca daha önce “Psikanalize Başlarken Seminerleri”ni tamamlamış olan ve dinamik ya da farklı yaklaşımlarla alanda aktif olarak vaka gören\, psikiyatri asistanları veya uzmanları\, klinik psikologlar\, psikologlar\, psikoloji yüksek lisans öğrencileri ve psikolojik danışmanlar katılabilir. Katılımcıların aktif olarak vaka sunmaları beklenmektedir. Amaç psikanalitik yaklaşımla bir vakanın nasıl değerlendirildiğinin ve ele alındığının uygulama içinde görülmesidir. Sunulacak olan vakanın bir erişkin vakası olması gereklidir. Klinik deneyimin paylaşıldığı ve “Psikanalize Giriş Seminerleri”nde kuramsal olarak ele alınan konuların kliniğe yansımalarının tartışıldığı bu programda sunulan vaka bir psikanalist rehberliğinde işlenmektedir. \nVaka Çalışmaları Kasım 2023 – Mayıs 2024 tarihleri arasında 15 günde bir Perşembe günleri saat 20.00-22.30 arasında Psike İstanbul toplantı salonunda yapılacaktır. \nProgram\, yer ve kayıt bilgileri bu duyurunun devamındadır. \n\nPSİKANALİZE BAŞLARKEN (2023-2024) \nPAZARTESİ GRUBU PROGRAMI \n2 Ekim 2023 \nAyla Yazıcı \nAçılış Semineri-1 Freud’dan Günümüze Psikanaliz\, Belli Başlı Kuramlar\, Temel Kavramlar \n16 Ekim 2023 \nAyla Yazıcı \nAçılış Semineri-2 Freud’dan Günümüze Psikanaliz\, Belli Başlı Kuramlar\, Temel Kavramlar \nPSİKANALİZİN TEMEL İLKELERİ (Charles Brenner) \n30 Ekim 2023 \nAslı Kuruoğlu  \nİki Temel Varsayım ve Dürtüler (1. ve 2. Bölüm) \n13 Kasım 2023 \nRefhan Balkan \nRuhsal Aygıt (3.-5. Bölüm) \n27 Kasım 2023 \nDerya Kulu \nSakar Eylemler ve Espriler (6. Bölüm) \n11 Aralık 2023 \nYasemin Cengiz \nRüyalar (7. Bölüm) \n25 Aralık 2023 \nMeltem Temiz \nPsikopatoloji (8. Bölüm) \n8 Ocak 2024 \nNesli Keskinöz Bilen \nOidipus Karmaşası \nKLİNİK KAVRAMLARA GİRİŞ (Anna Freud\, Melanıe Kleın) \n22 Ocak 2024 \nÖzay Özdemir \nTerapötik İşbirliği ve Çerçeve \n5 Şubat 2024 \nFulya Algın Tokmak \nAktarım-Karşıaktarım \n19 Şubat 2024 \nSevil Kural \nSavunma Mekanizmaları Kuramı \nNesnel Hoşnutsuzluk ve Nesnel Tehlikenin Önlenmesi \n4 Mart 2024 \nNuray Türksoy \nİlkel (Birincil) ve İkincil (Yüksek Düzey) Savunmalar \n18 Mart 2024 \nSemra Yalçınkaya \nKleincı Kurama Giriş: Paranoid-Şizoid Konum\, Depresif Konum \nKARAKTER ÖRGÜTLENME TİPLERİ VE KİŞİLİK BOZUKLUKLARI \n1 Nisan 2024 \nŞebnem Kurtaran \nKişilik Gelişim Düzeylerine Genel Bakış: Nevrotik\, \nSınır ve Psikotik Spektrum \n15 Nisan 2024 \nİrem Anlı \nŞizoid Görüngü (Post-Kleinien Yaklaşımlar) \n6 Mayıs 2024 \nIşıl Ertüzün \nSınır Kişilik- Narsistik Kişilik- Sosyopatik Kişilik \n20 Mayıs 2024 \nYavuz Erten \nHisterik-Histriyonik Kişilik\, Takıntılı-Zorlantılı Kişilik \n3 Haziran 2024 \nMine Özgüroğlu Çukurçeşme \nKapanış Semineri – İşlenen kuram ve kavramların gözden geçirilmesi\, \nseminer sürecinin değerlendirilmesi. \nOKUMALARINI İLERLETMEK İSTEYEN KATILIMCILARA ÖNERİLEN KAYNAK KİTAPLAR \n– S. Freud\, Gündelik Hayatın Psikopatolojisi Rüyaların Yorumu Psikopatoloji Metapsikoloji ve diğ er kitapları.\n– A. Freud\, Ben ve Savunma Mekanizmaları (Bağlam Yayıncılık)\n– M. Klein\, Haset ve Şükran (Metis Yayınları)\n– M. Klein\, Sevgi Suçluluk ve Onarım (Kanat Yayınevi)\n– C. Brenner\, Psikanalizin Temel İlkeleri (Hekimler YB)\n– N. McWilliams\, Psikanalitik Tanı (Bilgi Ü. Y.)\n– R. Perron\, Psikanaliz Nedir? (İthaki Yayınları)\n– V. D. Volkan\, Psychoanalytic Technique Expanded (Oa Yayınları)\n– Sandler\, Dare ve Holder\, Hasta ve Analist (Bağlam Yayıncılık) \nProgramda tarih değişiklikleri olabilir. Seminer öncesinde lütfen web sitemizden kontrol ediniz. \nwww.psikeistanbul.org \n\n  \n\nPSİKANALİZE BAŞLARKEN (2023-2024) \nÇARŞAMBA GRUBU PROGRAMI \n  \n4 Ekim 2023 \nPınar Limnili Özeren \nAçılış Semineri-1 Freud’dan Günümüze Psikanaliz\, Belli Başlı Kuramlar\, Temel Kavramlar \n18 Ekim 2023 \nPınar Limnili Özeren \nAçılış Semineri-2 Freud’dan Günümüze Psikanaliz\, Belli Başlı Kuramlar\, Temel Kavramlar \n  \nPSİKANALİZİN TEMEL İLKELERİ (Charles Brenner) \n1 Kasım 2023 \nAslı Kuruoğlu \nİki temel varsayım ve dürtüler (1. Ve 2. Bölüm) \n15 Kasım 2023 \nRefhan Balkan \nRuhsal aygıt (3.-5. Bölüm) \n29 Kasım 2023 \nDerya Kulu \nSakar eylemler ve espriler (6. Bölüm) \n13 Aralık 2023 \nYasemin Cengiz \nRüyalar (7. Bölüm) \n27 Aralık 2023 \nMeltem Temiz \nPsikopatoloji (8. Bölüm) \n10 Ocak 2024 \nNesli Keskinöz Bilen \nOidipus karmaşası \nKLİNİK KAVRAMLARA GİRİŞ (Anna Freud\, Melanıe Kleın) \n  \n24 Ocak 2024 \nÖzay Özdemir \nTerapötik işbirliği ve çerçeve \n7 Şubat 2024 \nFulya Algın Tokmak \nAktarım-karşıaktarım \n21 Şubat 2024 \nSevil Kural \nSavunma Mekanizmaları Kuramı \nNesnel Hoşnutsuzluk ve Nesnel Tehlikenin Önlenmesine Örnek \n6 Mart 2024 \nNuray Türksoy \nİlkel (Birincil) ve İkincil (Yüksek Düzey) Savunmalar \n20 Mart 2024 \nSemra Yalçınkaya \nKleincı Kurama Giriş: Paranoid-Şizoid Konum\, Depresif Konum \nKARAKTER ÖRGÜTLENME TİPLERİ VE KİŞİLİK BOZUKLUKLARI \n3 Nisan 2024 \nŞebnem Kurtaran \nKişilik Gelişim Düzeyleri\, Nevroz\, Nevrotik Karakter ve Psikoz \nNevrotik\, Sınır ve Psikotik Spektrum \n17 Nisan 2024 \nİrem Anlı \nŞizoid Görüngü (Post Kleinien Yaklaşımlar) \n8 Mayıs 2024 \nIşıl Ertüzün \nSınır Kişilik- Narsistik Kişilik- Sosyopatik Kişilik \n22 Mayıs 2024 \nYavuz Erten \nHisterik-Histriyonik Kişilik\, Takıntılı-Zorlantılı Kişilik \n5 Haziran 2024 \nMine Özgüroğlu Çukurçeşme \nKapanış Semineri – İşlenen kuram ve kavramların gözden geçirilmesi\, \nseminer sürecinin değerlendirilmesi. \nOKUMALARINI İLERLETMEK İSTEYEN KATILIMCILARA ÖNERİLEN KAYNAK KİTAPLAR \n– S. Freud\, Gündelik Hayatın Psikopatolojisi Rüyaların Yorumu Psikopatoloji Metapsikoloji ve diğ er kitapları.\n– A. Freud\, Ben ve Savunma Mekanizmaları (Bağlam Yayıncılık)\n– M. Klein\, Haset ve Şükran (Metis Yayınları)\n– M. Klein\, Sevgi Suçluluk ve Onarım (Kanat Yayınevi)\n– C. Brenner\, Psikanalizin Temel İlkeleri (Hekimler YB)\n– N. McWilliams\, Psikanalitik Tanı (Bilgi Ü. Y.)\n– R. Perron\, Psikanaliz Nedir? (İthaki Yayınları)\n– V. D. Volkan\, Psychoanalytic Technique Expanded (Oa Yayınları)\n– Sandler\, Dare ve Holder\, Hasta ve Analist (Bağlam Yayıncılık) \nProgramda tarih değişiklikleri olabilir. Seminer öncesinde lütfen web sitemizden kontrol ediniz. \nwww.psikeistanbul.org \n\n  \n\nİKİNCİ ADIM: VAKA ÇALIŞMALARI (2023-2024) PROGRAMI \nBu seminer programına yalnızca daha önce “Birinci Adım: Psikanalize Giriş Seminerleri”ni \ntamamlamış olan ve alanda aktif olarak vaka görenler katılabilir. \n2 Kasım 2023 \nMine Özgüroğlu Çukurçeşme \nVaka sunumlarının Çerçevesi ve Etik Kuralları \n  \n16 Kasım 2023 \nYasemin Cengiz \n  \n30 Kasım 2023 \nAslı Kuruoğlu \n  \n14 Aralık 2023 \nSevil Kural \n  \n28 Aralık 2023 \nIşın Sayın Tamerk \n  \n11 Ocak 2024 \nTolga Özsoy \n  \n25 Ocak 2024 \nSemra Yalçınkaya \n  \n8 Şubat 2024 \nDerya Kulu \n  \n22 Şubat 2024 \nNesli Keskinöz Bilen \n  \n7 Mart 2024 \nÖzay Özdemir \n  \n21 Mart 2024 \nFulya Algın Tokmak \n  \n4 Nisan 2024 \nIşıl Ertüzün \n  \n18 Nisan 2024 \nAslı Day \n  \n9 Mayıs 2024 \nŞebnem Kurtaran \n  \n23 Mayıs 2024 \nTijen Demirörs \n  \nProgramda tarih değişiklikleri olabilir. Seminer öncesinde lütfen web sitemizden kontrol ediniz. \nwww.psikeistanbul.org \n\n  \nPSİKANALİZE BAŞLARKEN (2023-2024) PAZARTESİ VEYA ÇARŞAMBA GRUBU \nKontenjanlarımız dolmuştur. \nİKİNCİ ADIM: VAKA ÇALIŞMALARI (2023-2024) \nKontenjanlarımız dolmuştur. \nYER Psike İstanbul Merkezinde yapılmaktadır. \nAdres: Süleyman Nazif Sokak\, Park Apt. No: 13/12 Kat: 4 Valikonağı- Şişli –İstanbul \nE-posta : psikeistanbul@gmail.com  Tel/Faks: (212) 224 10 03 \nwww.psikeistanbul.org \n\nPsikanalize Giriş Seminerleri (2023-2024) dökümanını PDF olarak indirmek için lütfen tıklayın.
URL:https://psikeistanbul.org/event/psikanalize-giris-seminerleri-2023-2024/
LOCATION:Psike İstanbul Merkezi\, Süleyman Nazif Sokak\, Park Apt. No: 13/12 Kat: 4 Valikonağı- Şişli –İstanbul\, İstanbul\, 34371\, Türkiye
CATEGORIES:Psikanalize Giriş Seminerleri
END:VEVENT
END:VCALENDAR