BEGIN:VCALENDAR
VERSION:2.0
PRODID:-//Psike İstanbul - ECPv6.15.20//NONSGML v1.0//EN
CALSCALE:GREGORIAN
METHOD:PUBLISH
X-ORIGINAL-URL:https://psikeistanbul.org/en/
X-WR-CALDESC:Events for Psike İstanbul
REFRESH-INTERVAL;VALUE=DURATION:PT1H
X-Robots-Tag:noindex
X-PUBLISHED-TTL:PT1H
BEGIN:VTIMEZONE
TZID:Europe/Istanbul
BEGIN:STANDARD
TZOFFSETFROM:+0300
TZOFFSETTO:+0300
TZNAME:+03
DTSTART:20240101T000000
END:STANDARD
END:VTIMEZONE
BEGIN:VEVENT
DTSTART;TZID=Europe/Istanbul:20251019T100000
DTEND;TZID=Europe/Istanbul:20251019T163000
DTSTAMP:20260421T111710
CREATED:20250225T134559Z
LAST-MODIFIED:20250913T072633Z
UID:100023035-1760868000-1760891400@psikeistanbul.org
SUMMARY:ONE THEORY ONE MASTER: SÁNDOR FERENCZI – JUDIT MÉSZÁROS
DESCRIPTION:Click for applying
URL:https://psikeistanbul.org/en/event/one-theory-one-master-sandor-ferenczi-judit-meszaros/
LOCATION:İstanbul Bilgi Üniversitesi Santralİstanbul Kampüsü\, Eski Silahtarağa Elektrik Santrali Kazım Karabekir Cad. No:2. Eyüpsultan 34060\, İstanbul\, Turkey
CATEGORIES:Conference,One Theory, One Master,Online Conference
END:VEVENT
END:VCALENDAR